BEGIN:VCALENDAR
VERSION:2.0
PRODID:-//ddaysoftware.com//NONSGML DDay.iCal 1.0//EN
BEGIN:VEVENT
DESCRIPTION:Integrated Cellular Imaging presents "MicroTalks: Acquisition o
 ptimization" 
DTEND:20180924T130000
DTSTAMP:20260419T132837Z
DTSTART:20180924T120000
LOCATION:Rollins Auditorium (1st Floor\, HSRB-I)
SEQUENCE:0
SUMMARY:Integrated Cellular Imaging presents "MicroTalks: Acquisition optim
 ization"
UID:5f96a19c-7d90-4612-91a9-c5d9d0663f67
END:VEVENT
END:VCALENDAR
