BEGIN:VCALENDAR
VERSION:2.0
PRODID:-//ddaysoftware.com//NONSGML DDay.iCal 1.0//EN
BEGIN:VEVENT
DESCRIPTION:Integrated Cellular Imaging presents "MicroTalks: Acquisition o
 ptimization" 
DTEND:20180927T130000
DTSTAMP:20260419T143527Z
DTSTART:20180927T120000
LOCATION:Whitehead Auditorium
SEQUENCE:0
SUMMARY:Integrated Cellular Imaging presents "MicroTalks: Acquisition optim
 ization"
UID:2b7235af-c01a-4d1f-ae49-5e9369f9be70
END:VEVENT
END:VCALENDAR
